BEGIN:VCALENDAR
VERSION:2.0
PRODID:-//Pictures London//Cinema Listings//EN
CALSCALE:GREGORIAN
METHOD:PUBLISH
X-WR-CALNAME:Pictures London Cinema
BEGIN:VEVENT
UID:29bb0e43-9de7-4f0b-a24d-3a863238f6f9@pictures.london
DTSTART:20260501T103000Z
DTEND:20260501T122900Z
SUMMARY:The Devil Wears Prada 2 (2026) at Everyman Hampstead
DESCRIPTION:The Devil Wears Prada 2 (2026)\nat Everyman Hampstead\nBook: https://purchase.everymancinema.com/launch/ticketing/6c8453db-7f3f-5c20-82b1-cc66fa277492\nvia Pictures (pictures.london)
LOCATION:Everyman Hampstead\, 5 Holly Bush Vale\, Hampstead\, NW3 1QE
URL:https://purchase.everymancinema.com/launch/ticketing/6c8453db-7f3f-5c20-82b1-cc66fa277492
STATUS:CONFIRMED
END:VEVENT
END:VCALENDAR