BEGIN:VCALENDAR
VERSION:2.0
PRODID:-//Pictures London//Cinema Listings//EN
CALSCALE:GREGORIAN
METHOD:PUBLISH
X-WR-CALNAME:Pictures London Cinema
BEGIN:VEVENT
UID:29b1d717-d1b5-443c-b8e7-57166a6ed59a@pictures.london
DTSTART:20260424T203000Z
DTEND:20260424T222200Z
SUMMARY:Mother Mary (2026) at Everyman Crystal Palace
DESCRIPTION:Mother Mary (2026)\nat Everyman Crystal Palace\nBook: https://purchase.everymancinema.com/launch/ticketing/e61577d6-9016-546c-aa64-1accd21e3934\nvia Pictures (pictures.london)
LOCATION:Everyman Crystal Palace\, 25 Church Road\, Crystal Palace\, SE19 2AE
URL:https://purchase.everymancinema.com/launch/ticketing/e61577d6-9016-546c-aa64-1accd21e3934
STATUS:CONFIRMED
END:VEVENT
END:VCALENDAR