BEGIN:VCALENDAR
VERSION:2.0
PRODID:-//Pictures London//Cinema Listings//EN
CALSCALE:GREGORIAN
METHOD:PUBLISH
X-WR-CALNAME:Pictures London Cinema
BEGIN:VEVENT
UID:2965488e-44b4-477a-bbfd-cfab3eaf5a2c@pictures.london
DTSTART:20260421T204500Z
DTEND:20260421T223000Z
SUMMARY:The Drama (2026) at Everyman Hampstead
DESCRIPTION:The Drama (2026)\nat Everyman Hampstead\nBook: https://purchase.everymancinema.com/launch/ticketing/74c1d45c-4cdc-5f86-a522-01594eaaa8ff\nvia Pictures (pictures.london)
LOCATION:Everyman Hampstead\, 5 Holly Bush Vale\, Hampstead\, NW3 1QE
URL:https://purchase.everymancinema.com/launch/ticketing/74c1d45c-4cdc-5f86-a522-01594eaaa8ff
STATUS:CONFIRMED
END:VEVENT
END:VCALENDAR