BEGIN:VCALENDAR
VERSION:2.0
PRODID:-//Pictures London//Cinema Listings//EN
CALSCALE:GREGORIAN
METHOD:PUBLISH
X-WR-CALNAME:Pictures London Cinema
BEGIN:VEVENT
UID:2961279f-c5ac-4a73-a2fd-15228233aed0@pictures.london
DTSTART:20260421T181500Z
DTEND:20260421T200000Z
SUMMARY:The Drama (2026) at Genesis Cinema
DESCRIPTION:The Drama (2026)\nat Genesis Cinema\nBook: https://genesis.admit-one.co.uk/seats/?perfCode=10574\nvia Pictures (pictures.london)
LOCATION:Genesis Cinema\, 93-95 Mile End Road\, Mile End\, E1 4UJ
URL:https://genesis.admit-one.co.uk/seats/?perfCode=10574
STATUS:CONFIRMED
END:VEVENT
END:VCALENDAR