BEGIN:VCALENDAR
VERSION:2.0
PRODID:-//Pictures London//Cinema Listings//EN
CALSCALE:GREGORIAN
METHOD:PUBLISH
X-WR-CALNAME:Pictures London Cinema
BEGIN:VEVENT
UID:28e91cfc-a24c-4d69-a8a4-3b52d5838734@pictures.london
DTSTART:20260422T191500Z
DTEND:20260422T212200Z
SUMMARY:Michael (2026) at Everyman Stratford International
DESCRIPTION:Michael (2026)\nat Everyman Stratford International\nBook: https://purchase.everymancinema.com/launch/ticketing/421cd4c3-d8e4-5555-8a97-5b12d6d9f236\nvia Pictures (pictures.london)
LOCATION:Everyman Stratford International\, International Way\, Stratford\, E20 1GL
URL:https://purchase.everymancinema.com/launch/ticketing/421cd4c3-d8e4-5555-8a97-5b12d6d9f236
STATUS:CONFIRMED
END:VEVENT
END:VCALENDAR