BEGIN:VCALENDAR
VERSION:2.0
PRODID:-//Pictures London//Cinema Listings//EN
CALSCALE:GREGORIAN
METHOD:PUBLISH
X-WR-CALNAME:Pictures London Cinema
BEGIN:VEVENT
UID:27f7a5b4-2444-4b66-9356-d05bccee080f@pictures.london
DTSTART:20260423T120000Z
DTEND:20260423T140000Z
SUMMARY:Stand by Me (40th Anniversary) at Everyman Maida Vale
DESCRIPTION:Stand by Me (40th Anniversary)\nat Everyman Maida Vale\nEvent: anniversary\nBook: https://purchase.everymancinema.com/launch/ticketing/c418ebdd-270b-5c22-aa67-5841448396ed\nvia Pictures (pictures.london)
LOCATION:Everyman Maida Vale\, 215 Sutherland Avenue\, Maida Vale\, W9 1TT
URL:https://purchase.everymancinema.com/launch/ticketing/c418ebdd-270b-5c22-aa67-5841448396ed
STATUS:CONFIRMED
END:VEVENT
END:VCALENDAR