BEGIN:VCALENDAR
VERSION:2.0
PRODID:-//Pictures London//Cinema Listings//EN
CALSCALE:GREGORIAN
METHOD:PUBLISH
X-WR-CALNAME:Pictures London Cinema
BEGIN:VEVENT
UID:279ce888-e8e4-4485-9c9d-e4c96f5d6ee4@pictures.london
DTSTART:20260422T100000Z
DTEND:20260422T120700Z
SUMMARY:Michael (2026) at Everyman Canary Wharf
DESCRIPTION:Michael (2026)\nat Everyman Canary Wharf\nBook: https://purchase.everymancinema.com/launch/ticketing/963e621b-4228-5e47-88c4-25a081aa9fdd\nvia Pictures (pictures.london)
LOCATION:Everyman Canary Wharf\, Crossrail Place\, Canary Wharf\, E14 5NY
URL:https://purchase.everymancinema.com/launch/ticketing/963e621b-4228-5e47-88c4-25a081aa9fdd
STATUS:CONFIRMED
END:VEVENT
END:VCALENDAR