BEGIN:VCALENDAR
VERSION:2.0
PRODID:-//Pictures London//Cinema Listings//EN
CALSCALE:GREGORIAN
METHOD:PUBLISH
X-WR-CALNAME:Pictures London Cinema
BEGIN:VEVENT
UID:2678bd40-5893-4e0d-8032-b074f63dedf7@pictures.london
DTSTART:20260424T123000Z
DTEND:20260424T130400Z
SUMMARY:Easter Parade: On the Avenue (2005) at Finsbury Park Picturehouse
DESCRIPTION:Easter Parade: On the Avenue (2005)\nat Finsbury Park Picturehouse\nBook: https://www.picturehouses.com/movie-details/029/HO00012740/easter-parade\nvia Pictures (pictures.london)
LOCATION:Finsbury Park Picturehouse\, Unit B\, Finsbury Park Station\, Finsbury Park\, N4 3FP
URL:https://www.picturehouses.com/movie-details/029/HO00012740/easter-parade
STATUS:CONFIRMED
END:VEVENT
END:VCALENDAR