BEGIN:VCALENDAR
VERSION:2.0
PRODID:-//Pictures London//Cinema Listings//EN
CALSCALE:GREGORIAN
METHOD:PUBLISH
X-WR-CALNAME:Pictures London Cinema
BEGIN:VEVENT
UID:26710ccc-d8f6-4a45-88af-47c348c0eb51@pictures.london
DTSTART:20260422T130000Z
DTEND:20260422T152000Z
SUMMARY:All My Sons (2019) at Crouch End Picturehouse
DESCRIPTION:All My Sons (2019)\nat Crouch End Picturehouse\nBook: https://www.picturehouses.com/movie-details/024/HO00017466/national-theatre-live-all-my-sons-2026\nvia Pictures (pictures.london)
LOCATION:Crouch End Picturehouse\, 165 Tottenham Lane\, Crouch End\, N8 8HP
URL:https://www.picturehouses.com/movie-details/024/HO00017466/national-theatre-live-all-my-sons-2026
STATUS:CONFIRMED
END:VEVENT
END:VCALENDAR