BEGIN:VCALENDAR
VERSION:2.0
PRODID:-//Pictures London//Cinema Listings//EN
CALSCALE:GREGORIAN
METHOD:PUBLISH
X-WR-CALNAME:Pictures London Cinema
BEGIN:VEVENT
UID:25bf538c-97cc-44ec-8d93-9e43ed39928b@pictures.london
DTSTART:20260421T202000Z
DTEND:20260421T221000Z
SUMMARY:Father Mother Sister Brother (2025) at Hackney Picturehouse
DESCRIPTION:Father Mother Sister Brother (2025)\nat Hackney Picturehouse\nBook: https://www.picturehouses.com/movie-details/010/HO00017851/father-mother-sister-brother\nvia Pictures (pictures.london)
LOCATION:Hackney Picturehouse\, 270 Mare Street\, Hackney\, E8 1EJ
URL:https://www.picturehouses.com/movie-details/010/HO00017851/father-mother-sister-brother
STATUS:CONFIRMED
END:VEVENT
END:VCALENDAR