BEGIN:VCALENDAR
VERSION:2.0
PRODID:-//Pictures London//Cinema Listings//EN
CALSCALE:GREGORIAN
METHOD:PUBLISH
X-WR-CALNAME:Pictures London Cinema
BEGIN:VEVENT
UID:25be66b4-7ed3-4bde-bd86-699cf88d619b@pictures.london
DTSTART:20260421T162000Z
DTEND:20260421T185700Z
SUMMARY:Project Hail Mary (2026) at Curzon Aldgate
DESCRIPTION:Project Hail Mary (2026)\nat Curzon Aldgate\nBook: https://www.curzon.com/films/project-hail-mary/HO00006852/\nvia Pictures (pictures.london)
LOCATION:Curzon Aldgate\, 2 Whitechapel High Street\, Aldgate\, E1 8FA
URL:https://www.curzon.com/films/project-hail-mary/HO00006852/
STATUS:CONFIRMED
END:VEVENT
END:VCALENDAR