BEGIN:VCALENDAR
VERSION:2.0
PRODID:-//Pictures London//Cinema Listings//EN
CALSCALE:GREGORIAN
METHOD:PUBLISH
X-WR-CALNAME:Pictures London Cinema
BEGIN:VEVENT
UID:25ab7227-a290-42a6-bd20-8469bce24802@pictures.london
DTSTART:20260421T120000Z
DTEND:20260421T140400Z
SUMMARY:Akira (1988) at Everyman Canary Wharf
DESCRIPTION:Akira (1988)\nat Everyman Canary Wharf\nFormat: DCP_4K\nBook: https://purchase.everymancinema.com/launch/ticketing/533cd8bb-f97e-529c-b6c0-2c2d89f9ca8a\nvia Pictures (pictures.london)
LOCATION:Everyman Canary Wharf\, Crossrail Place\, Canary Wharf\, E14 5NY
URL:https://purchase.everymancinema.com/launch/ticketing/533cd8bb-f97e-529c-b6c0-2c2d89f9ca8a
STATUS:CONFIRMED
END:VEVENT
END:VCALENDAR