BEGIN:VCALENDAR
VERSION:2.0
PRODID:-//Pictures London//Cinema Listings//EN
CALSCALE:GREGORIAN
METHOD:PUBLISH
X-WR-CALNAME:Pictures London Cinema
BEGIN:VEVENT
UID:257b1cce-5419-4337-927a-d094cdea4f96@pictures.london
DTSTART:20260421T210000Z
DTEND:20260421T224500Z
SUMMARY:The Drama (2026) at Everyman Borough Yards
DESCRIPTION:The Drama (2026)\nat Everyman Borough Yards\nBook: https://purchase.everymancinema.com/launch/ticketing/dc56c48b-4b1a-5a81-a7e9-a13f49b1807c\nvia Pictures (pictures.london)
LOCATION:Everyman Borough Yards\, Borough Yards\, Borough\, SE1 9PH
URL:https://purchase.everymancinema.com/launch/ticketing/dc56c48b-4b1a-5a81-a7e9-a13f49b1807c
STATUS:CONFIRMED
END:VEVENT
END:VCALENDAR