BEGIN:VCALENDAR
VERSION:2.0
PRODID:-//Pictures London//Cinema Listings//EN
CALSCALE:GREGORIAN
METHOD:PUBLISH
X-WR-CALNAME:Pictures London Cinema
BEGIN:VEVENT
UID:256b7e39-6344-4108-b740-abdd13085d5b@pictures.london
DTSTART:20260423T181500Z
DTEND:20260423T194800Z
SUMMARY:My Father's Shadow (2025) at Hackney Picturehouse
DESCRIPTION:My Father's Shadow (2025)\nat Hackney Picturehouse\nBook: https://www.picturehouses.com/movie-details/010/HO00017479/my-father-s-shadow\nvia Pictures (pictures.london)
LOCATION:Hackney Picturehouse\, 270 Mare Street\, Hackney\, E8 1EJ
URL:https://www.picturehouses.com/movie-details/010/HO00017479/my-father-s-shadow
STATUS:CONFIRMED
END:VEVENT
END:VCALENDAR