BEGIN:VCALENDAR
VERSION:2.0
PRODID:-//Pictures London//Cinema Listings//EN
CALSCALE:GREGORIAN
METHOD:PUBLISH
X-WR-CALNAME:Pictures London Cinema
BEGIN:VEVENT
UID:253e8d87-2243-4a84-939d-51bf96b8f530@pictures.london
DTSTART:20260421T185500Z
DTEND:20260421T204500Z
SUMMARY:Father Mother Sister Brother (2025) at Olympic Studios
DESCRIPTION:Father Mother Sister Brother (2025)\nat Olympic Studios\nBook: https://web1.empire.mycloudcinema.com/#/book/54822\nvia Pictures (pictures.london)
LOCATION:Olympic Studios\, 117-123 Church Road\, Barnes\, SW13 9HL
URL:https://web1.empire.mycloudcinema.com/#/book/54822
STATUS:CONFIRMED
END:VEVENT
END:VCALENDAR