BEGIN:VCALENDAR
VERSION:2.0
PRODID:-//Pictures London//Cinema Listings//EN
CALSCALE:GREGORIAN
METHOD:PUBLISH
X-WR-CALNAME:Pictures London Cinema
BEGIN:VEVENT
UID:24fe4353-9dc9-49c6-bf07-075c5a0f9364@pictures.london
DTSTART:20260422T103000Z
DTEND:20260422T123700Z
SUMMARY:Michael (2026) at Everyman Chelsea
DESCRIPTION:Michael (2026)\nat Everyman Chelsea\nBook: https://purchase.everymancinema.com/launch/ticketing/795a358e-7e64-5af8-93b2-6720c2313fdb\nvia Pictures (pictures.london)
LOCATION:Everyman Chelsea\, 279 King's Road\, Chelsea\, SW3 3TD
URL:https://purchase.everymancinema.com/launch/ticketing/795a358e-7e64-5af8-93b2-6720c2313fdb
STATUS:CONFIRMED
END:VEVENT
END:VCALENDAR