BEGIN:VCALENDAR
VERSION:2.0
PRODID:-//Pictures London//Cinema Listings//EN
CALSCALE:GREGORIAN
METHOD:PUBLISH
X-WR-CALNAME:Pictures London Cinema
BEGIN:VEVENT
UID:245e6b4d-0cd5-4f29-b18d-5a9082faf62c@pictures.london
DTSTART:20260424T130000Z
DTEND:20260424T143400Z
SUMMARY:Strictly Ballroom (4k Re-release) (1992) at Hackney Picturehouse
DESCRIPTION:Strictly Ballroom (4k Re-release) (1992)\nat Hackney Picturehouse\nFormat: DCP_4K\nBook: https://www.picturehouses.com/movie-details/010/HO00017640/strictly-ballroom-4k-re-release\nvia Pictures (pictures.london)
LOCATION:Hackney Picturehouse\, 270 Mare Street\, Hackney\, E8 1EJ
URL:https://www.picturehouses.com/movie-details/010/HO00017640/strictly-ballroom-4k-re-release
STATUS:CONFIRMED
END:VEVENT
END:VCALENDAR