BEGIN:VCALENDAR
VERSION:2.0
PRODID:-//Pictures London//Cinema Listings//EN
CALSCALE:GREGORIAN
METHOD:PUBLISH
X-WR-CALNAME:Pictures London Cinema
BEGIN:VEVENT
UID:2419bec7-937b-4f16-8095-4ded3db80e11@pictures.london
DTSTART:20260421T170000Z
DTEND:20260421T194100Z
SUMMARY:The Secret Agent (2025) at David Lean Cinema
DESCRIPTION:The Secret Agent (2025)\nat David Lean Cinema\nBook: https://tinyurl.com/3cnfd9sa\nvia Pictures (pictures.london)
LOCATION:David Lean Cinema\, The Clocktower\, Croydon Airport\, Croydon\, CR0 0XZ
URL:https://tinyurl.com/3cnfd9sa
STATUS:CONFIRMED
END:VEVENT
END:VCALENDAR