BEGIN:VCALENDAR
VERSION:2.0
PRODID:-//Pictures London//Cinema Listings//EN
CALSCALE:GREGORIAN
METHOD:PUBLISH
X-WR-CALNAME:Pictures London Cinema
BEGIN:VEVENT
UID:23c7f530-b269-4960-87a4-1c7a1daaea98@pictures.london
DTSTART:20260426T121000Z
DTEND:20260426T133000Z
SUMMARY:An American Tail (1986) at BFI Southbank
DESCRIPTION:An American Tail (1986)\nat BFI Southbank\nEvent: anniversary\nBook: https://whatson.bfi.org.uk/Online/default.asp?doWork::WScontent::loadArticle=Load&BOparam::WScontent::loadArticle::article_id=F150C6DF-5565-4977-A89A-68711889EE19&BOparam::WScontent::loadArticle::context_id=B88E8440-FC30-4973-8704-0E9151C9779C\nvia Pictures (pictures.london)
LOCATION:BFI Southbank\, Belvedere Road\, South Bank\, SE1 8XT
URL:https://whatson.bfi.org.uk/Online/default.asp?doWork::WScontent::loadArticle=Load&BOparam::WScontent::loadArticle::article_id=F150C6DF-5565-4977-A89A-68711889EE19&BOparam::WScontent::loadArticle::context_id=B88E8440-FC30-4973-8704-0E9151C9779C
STATUS:CONFIRMED
END:VEVENT
END:VCALENDAR