BEGIN:VCALENDAR
VERSION:2.0
PRODID:-//Pictures London//Cinema Listings//EN
CALSCALE:GREGORIAN
METHOD:PUBLISH
X-WR-CALNAME:Pictures London Cinema
BEGIN:VEVENT
UID:22c6a58e-bb99-4b29-bfcf-cf21384208f6@pictures.london
DTSTART:20260428T203000Z
DTEND:20260428T221700Z
SUMMARY:Hokum (2026) at The Ritzy
DESCRIPTION:Hokum (2026)\nat The Ritzy\nEvent: preview\nBook: https://www.picturehouses.com/movie-details/004/HO00017849/hokum\nvia Pictures (pictures.london)
LOCATION:The Ritzy\, Brixton Oval\, Coldharbour Lane\, Brixton\, SW2 1JG
URL:https://www.picturehouses.com/movie-details/004/HO00017849/hokum
STATUS:CONFIRMED
END:VEVENT
END:VCALENDAR