BEGIN:VCALENDAR
VERSION:2.0
PRODID:-//Pictures London//Cinema Listings//EN
CALSCALE:GREGORIAN
METHOD:PUBLISH
X-WR-CALNAME:Pictures London Cinema
BEGIN:VEVENT
UID:22b3d617-3e38-42da-a896-053a173e4b9e@pictures.london
DTSTART:20260421T204000Z
DTEND:20260421T223700Z
SUMMARY:Days and Nights in the Forest (1970) at BFI Southbank
DESCRIPTION:Days and Nights in the Forest (1970)\nat BFI Southbank\nFormat: DIGITAL 4K\nBook: https://whatson.bfi.org.uk/Online/default.asp?doWork::WScontent::search=1&BOparam::WScontent::search::article_search_id=25E7EA2E-291F-44F9-8EBC-E560154FDAEB&BOset::WScontent::SearchCriteria::search_criteria=Days%20and%20Nights%20in%20the%20Forest\nvia Pictures (pictures.london)
LOCATION:BFI Southbank\, Belvedere Road\, South Bank\, SE1 8XT
URL:https://whatson.bfi.org.uk/Online/default.asp?doWork::WScontent::search=1&BOparam::WScontent::search::article_search_id=25E7EA2E-291F-44F9-8EBC-E560154FDAEB&BOset::WScontent::SearchCriteria::search_criteria=Days%20and%20Nights%20in%20the%20Forest
STATUS:CONFIRMED
END:VEVENT
END:VCALENDAR