BEGIN:VCALENDAR
VERSION:2.0
PRODID:-//Pictures London//Cinema Listings//EN
CALSCALE:GREGORIAN
METHOD:PUBLISH
X-WR-CALNAME:Pictures London Cinema
BEGIN:VEVENT
UID:20e88679-92f8-40a5-b0f7-88f413d2f739@pictures.london
DTSTART:20260422T143000Z
DTEND:20260422T163700Z
SUMMARY:Michael (2026) at Everyman Belsize Park
DESCRIPTION:Michael (2026)\nat Everyman Belsize Park\nBook: https://purchase.everymancinema.com/launch/ticketing/d87c51e3-ae3e-5080-bff6-8df7014596f9\nvia Pictures (pictures.london)
LOCATION:Everyman Belsize Park\, 203 Haverstock Hill\, Belsize Park\, NW3 4QG
URL:https://purchase.everymancinema.com/launch/ticketing/d87c51e3-ae3e-5080-bff6-8df7014596f9
STATUS:CONFIRMED
END:VEVENT
END:VCALENDAR