BEGIN:VCALENDAR
VERSION:2.0
PRODID:-//Pictures London//Cinema Listings//EN
CALSCALE:GREGORIAN
METHOD:PUBLISH
X-WR-CALNAME:Pictures London Cinema
BEGIN:VEVENT
UID:20d767f9-a076-4dcb-86bd-c1dec51fe2a8@pictures.london
DTSTART:20260427T181000Z
DTEND:20260427T194700Z
SUMMARY:Fat City (1972) at BFI Southbank
DESCRIPTION:Fat City (1972)\nat BFI Southbank\nBook: https://whatson.bfi.org.uk/Online/default.asp?doWork::WScontent::loadArticle=Load&BOparam::WScontent::loadArticle::article_id=DC7C546D-1372-40CD-A09A-BDC447F9AB5D&BOparam::WScontent::loadArticle::context_id=6D6C4380-2A45-43DC-8605-37A179BF98DF\nvia Pictures (pictures.london)
LOCATION:BFI Southbank\, Belvedere Road\, South Bank\, SE1 8XT
URL:https://whatson.bfi.org.uk/Online/default.asp?doWork::WScontent::loadArticle=Load&BOparam::WScontent::loadArticle::article_id=DC7C546D-1372-40CD-A09A-BDC447F9AB5D&BOparam::WScontent::loadArticle::context_id=6D6C4380-2A45-43DC-8605-37A179BF98DF
STATUS:CONFIRMED
END:VEVENT
END:VCALENDAR