BEGIN:VCALENDAR
VERSION:2.0
PRODID:-//Pictures London//Cinema Listings//EN
CALSCALE:GREGORIAN
METHOD:PUBLISH
X-WR-CALNAME:Pictures London Cinema
BEGIN:VEVENT
UID:20921107-77ec-4cad-8736-237db94db43d@pictures.london
DTSTART:20260421T201000Z
DTEND:20260421T220400Z
SUMMARY:Rose of Nevada (2026) at The Ritzy
DESCRIPTION:Rose of Nevada (2026)\nat The Ritzy\nEvent: preview\nBook: https://www.picturehouses.com/movie-details/004/HO00017705/rose-of-nevada\nvia Pictures (pictures.london)
LOCATION:The Ritzy\, Brixton Oval\, Coldharbour Lane\, Brixton\, SW2 1JG
URL:https://www.picturehouses.com/movie-details/004/HO00017705/rose-of-nevada
STATUS:CONFIRMED
END:VEVENT
END:VCALENDAR