BEGIN:VCALENDAR
VERSION:2.0
PRODID:-//Pictures London//Cinema Listings//EN
CALSCALE:GREGORIAN
METHOD:PUBLISH
X-WR-CALNAME:Pictures London Cinema
BEGIN:VEVENT
UID:208f4579-4a9c-4a47-8d29-7259d0040b96@pictures.london
DTSTART:20260426T110000Z
DTEND:20260426T121800Z
SUMMARY:A Goofy Movie (1995) at Prince Charles Cinema
DESCRIPTION:A Goofy Movie (1995)\nat Prince Charles Cinema\nBook: https://princecharlescinema.com/prince-charles-cinema/booknow/31625618\nvia Pictures (pictures.london)
LOCATION:Prince Charles Cinema\, 7 Leicester Place\, Leicester Square\, WC2H 7BY
URL:https://princecharlescinema.com/prince-charles-cinema/booknow/31625618
STATUS:CONFIRMED
END:VEVENT
END:VCALENDAR