BEGIN:VCALENDAR
VERSION:2.0
PRODID:-//Pictures London//Cinema Listings//EN
CALSCALE:GREGORIAN
METHOD:PUBLISH
X-WR-CALNAME:Pictures London Cinema
BEGIN:VEVENT
UID:200ddece-1a7f-441c-8f82-dbea5d94665b@pictures.london
DTSTART:20260421T110000Z
DTEND:20260421T123800Z
SUMMARY:The Super Mario Galaxy Movie (2026) at Everyman Borough Yards
DESCRIPTION:The Super Mario Galaxy Movie (2026)\nat Everyman Borough Yards\nBook: https://purchase.everymancinema.com/launch/ticketing/5521c299-cd1b-5cf8-8293-c0466ca68bd3\nvia Pictures (pictures.london)
LOCATION:Everyman Borough Yards\, Borough Yards\, Borough\, SE1 9PH
URL:https://purchase.everymancinema.com/launch/ticketing/5521c299-cd1b-5cf8-8293-c0466ca68bd3
STATUS:CONFIRMED
END:VEVENT
END:VCALENDAR