BEGIN:VCALENDAR
VERSION:2.0
PRODID:-//Pictures London//Cinema Listings//EN
CALSCALE:GREGORIAN
METHOD:PUBLISH
X-WR-CALNAME:Pictures London Cinema
BEGIN:VEVENT
UID:1ff97a19-5c02-4901-871b-378d52b5131f@pictures.london
DTSTART:20260421T201500Z
DTEND:20260421T221500Z
SUMMARY:AKIRA (2026 Re-release) (Subbed) (2026) at Picturehouse Central
DESCRIPTION:AKIRA (2026 Re-release) (Subbed) (2026)\nat Picturehouse Central\nBook: https://www.picturehouses.com/movie-details/022/HO00017693/akira-2026-re-release\nvia Pictures (pictures.london)
LOCATION:Picturehouse Central\, Corner of Great Windmill Street & Shaftesbury Avenue\, West End\, W1D 7DH
URL:https://www.picturehouses.com/movie-details/022/HO00017693/akira-2026-re-release
STATUS:CONFIRMED
END:VEVENT
END:VCALENDAR