BEGIN:VCALENDAR
VERSION:2.0
PRODID:-//Pictures London//Cinema Listings//EN
CALSCALE:GREGORIAN
METHOD:PUBLISH
X-WR-CALNAME:Pictures London Cinema
BEGIN:VEVENT
UID:1fac3134-f10b-4f17-b493-920339c8e84b@pictures.london
DTSTART:20260422T150000Z
DTEND:20260422T170700Z
SUMMARY:Michael (2026) at Everyman Stratford International
DESCRIPTION:Michael (2026)\nat Everyman Stratford International\nBook: https://purchase.everymancinema.com/launch/ticketing/08061e64-ee1a-53aa-b243-2f9c286469dc\nvia Pictures (pictures.london)
LOCATION:Everyman Stratford International\, International Way\, Stratford\, E20 1GL
URL:https://purchase.everymancinema.com/launch/ticketing/08061e64-ee1a-53aa-b243-2f9c286469dc
STATUS:CONFIRMED
END:VEVENT
END:VCALENDAR