BEGIN:VCALENDAR
VERSION:2.0
PRODID:-//Pictures London//Cinema Listings//EN
CALSCALE:GREGORIAN
METHOD:PUBLISH
X-WR-CALNAME:Pictures London Cinema
BEGIN:VEVENT
UID:1f70b98c-d387-4dcb-9a1d-575727b6196f@pictures.london
DTSTART:20260421T144500Z
DTEND:20260421T172200Z
SUMMARY:Project Hail Mary (2026) at Everyman King's Cross
DESCRIPTION:Project Hail Mary (2026)\nat Everyman King's Cross\nBook: https://purchase.everymancinema.com/launch/ticketing/f982f4c2-b21e-59bd-9667-8e697c3236ad\nvia Pictures (pictures.london)
LOCATION:Everyman King's Cross\, Coal Drops Yard\, King's Cross\, N1C 4AG
URL:https://purchase.everymancinema.com/launch/ticketing/f982f4c2-b21e-59bd-9667-8e697c3236ad
STATUS:CONFIRMED
END:VEVENT
END:VCALENDAR