BEGIN:VCALENDAR
VERSION:2.0
PRODID:-//Pictures London//Cinema Listings//EN
CALSCALE:GREGORIAN
METHOD:PUBLISH
X-WR-CALNAME:Pictures London Cinema
BEGIN:VEVENT
UID:1f60079a-2550-454b-9354-0ee6ccef3da7@pictures.london
DTSTART:20260423T183000Z
DTEND:20260423T195600Z
SUMMARY:It Came from Kuchar (2009) at Rio Cinema
DESCRIPTION:It Came from Kuchar (2009)\nat Rio Cinema\nBook: https://riocinema.org.uk/Rio.dll/WhatsOn?f=2429309\nvia Pictures (pictures.london)
LOCATION:Rio Cinema\, 107 Kingsland High Street\, Dalston\, E8 2PB
URL:https://riocinema.org.uk/Rio.dll/WhatsOn?f=2429309
STATUS:CONFIRMED
END:VEVENT
END:VCALENDAR