BEGIN:VCALENDAR
VERSION:2.0
PRODID:-//Pictures London//Cinema Listings//EN
CALSCALE:GREGORIAN
METHOD:PUBLISH
X-WR-CALNAME:Pictures London Cinema
BEGIN:VEVENT
UID:1f5b1bf0-293e-43b0-87d9-8301cf0f71c9@pictures.london
DTSTART:20260425T103000Z
DTEND:20260425T121400Z
SUMMARY:The Bad Guys 2 (2025) at Greenwich Picturehouse
DESCRIPTION:The Bad Guys 2 (2025)\nat Greenwich Picturehouse\nEvent: special event\nBook: https://www.picturehouses.com/movie-details/021/HO00011590/the-bad-guys\nvia Pictures (pictures.london)
LOCATION:Greenwich Picturehouse\, 180 Greenwich High Road\, Greenwich\, SE10 9HB
URL:https://www.picturehouses.com/movie-details/021/HO00011590/the-bad-guys
STATUS:CONFIRMED
END:VEVENT
END:VCALENDAR