BEGIN:VCALENDAR
VERSION:2.0
PRODID:-//Pictures London//Cinema Listings//EN
CALSCALE:GREGORIAN
METHOD:PUBLISH
X-WR-CALNAME:Pictures London Cinema
BEGIN:VEVENT
UID:1f3f7122-06d0-463e-8929-bdb6e0849602@pictures.london
DTSTART:20260501T170000Z
DTEND:20260501T185900Z
SUMMARY:The Devil Wears Prada 2 (2026) at Curzon Mayfair
DESCRIPTION:The Devil Wears Prada 2 (2026)\nat Curzon Mayfair\nBook: https://www.curzon.com/films/the-devil-wears-prada-2/HO00006909/\nvia Pictures (pictures.london)
LOCATION:Curzon Mayfair\, 38 Curzon Street\, Mayfair\, W1J 7SH
URL:https://www.curzon.com/films/the-devil-wears-prada-2/HO00006909/
STATUS:CONFIRMED
END:VEVENT
END:VCALENDAR