BEGIN:VCALENDAR
VERSION:2.0
PRODID:-//Pictures London//Cinema Listings//EN
CALSCALE:GREGORIAN
METHOD:PUBLISH
X-WR-CALNAME:Pictures London Cinema
BEGIN:VEVENT
UID:1ea76115-c33c-4a21-8510-91a2b0210fc2@pictures.london
DTSTART:20260422T160000Z
DTEND:20260422T180700Z
SUMMARY:Michael (2026) at Everyman Borough Yards
DESCRIPTION:Michael (2026)\nat Everyman Borough Yards\nBook: https://purchase.everymancinema.com/launch/ticketing/fd64aa8a-beb2-55bb-8ff1-dfb1f50467c0\nvia Pictures (pictures.london)
LOCATION:Everyman Borough Yards\, Borough Yards\, Borough\, SE1 9PH
URL:https://purchase.everymancinema.com/launch/ticketing/fd64aa8a-beb2-55bb-8ff1-dfb1f50467c0
STATUS:CONFIRMED
END:VEVENT
END:VCALENDAR