BEGIN:VCALENDAR
VERSION:2.0
PRODID:-//Pictures London//Cinema Listings//EN
CALSCALE:GREGORIAN
METHOD:PUBLISH
X-WR-CALNAME:Pictures London Cinema
BEGIN:VEVENT
UID:1e85caf5-a654-4fab-b8aa-28978aef820b@pictures.london
DTSTART:20260422T133000Z
DTEND:20260422T153700Z
SUMMARY:Michael (2026) at Everyman Baker Street
DESCRIPTION:Michael (2026)\nat Everyman Baker Street\nBook: https://purchase.everymancinema.com/launch/ticketing/8cf70186-d622-5227-ba9f-e3e5394c93c3\nvia Pictures (pictures.london)
LOCATION:Everyman Baker Street\, 96-98 Baker Street\, Marylebone\, W1U 6AG
URL:https://purchase.everymancinema.com/launch/ticketing/8cf70186-d622-5227-ba9f-e3e5394c93c3
STATUS:CONFIRMED
END:VEVENT
END:VCALENDAR