BEGIN:VCALENDAR
VERSION:2.0
PRODID:-//Pictures London//Cinema Listings//EN
CALSCALE:GREGORIAN
METHOD:PUBLISH
X-WR-CALNAME:Pictures London Cinema
BEGIN:VEVENT
UID:1e4bf125-c29d-48f9-afa0-30373b25883a@pictures.london
DTSTART:20260422T111500Z
DTEND:20260422T130700Z
SUMMARY:The Long Goodbye (1973) at Prince Charles Cinema
DESCRIPTION:The Long Goodbye (1973)\nat Prince Charles Cinema\nFormat: 35MM\nBook: https://princecharlescinema.com/prince-charles-cinema/booknow/31625574\nvia Pictures (pictures.london)
LOCATION:Prince Charles Cinema\, 7 Leicester Place\, Leicester Square\, WC2H 7BY
URL:https://princecharlescinema.com/prince-charles-cinema/booknow/31625574
STATUS:CONFIRMED
END:VEVENT
END:VCALENDAR