BEGIN:VCALENDAR
VERSION:2.0
PRODID:-//Pictures London//Cinema Listings//EN
CALSCALE:GREGORIAN
METHOD:PUBLISH
X-WR-CALNAME:Pictures London Cinema
BEGIN:VEVENT
UID:1dd69e0e-c5da-46d2-91cd-26d79343fc83@pictures.london
DTSTART:20260426T200000Z
DTEND:20260426T215700Z
SUMMARY:300 (2007) at Everyman Stratford International
DESCRIPTION:300 (2007)\nat Everyman Stratford International\nBook: https://purchase.everymancinema.com/launch/ticketing/3fc06ff4-b6e2-5d51-a226-519ce7a30c67\nvia Pictures (pictures.london)
LOCATION:Everyman Stratford International\, International Way\, Stratford\, E20 1GL
URL:https://purchase.everymancinema.com/launch/ticketing/3fc06ff4-b6e2-5d51-a226-519ce7a30c67
STATUS:CONFIRMED
END:VEVENT
END:VCALENDAR