BEGIN:VCALENDAR
VERSION:2.0
PRODID:-//Pictures London//Cinema Listings//EN
CALSCALE:GREGORIAN
METHOD:PUBLISH
X-WR-CALNAME:Pictures London Cinema
BEGIN:VEVENT
UID:1cb2dcb5-c47a-482c-9001-f1076a3257be@pictures.london
DTSTART:20260424T123000Z
DTEND:20260424T143000Z
SUMMARY:Easter Parade at Finsbury Park Picturehouse
DESCRIPTION:Easter Parade\nat Finsbury Park Picturehouse\nBook: https://www.picturehouses.com/movie-details/029/HO00012740/easter-parade\nvia Pictures (pictures.london)
LOCATION:Finsbury Park Picturehouse\, Unit B\, Finsbury Park Station\, Finsbury Park\, N4 3FP
URL:https://www.picturehouses.com/movie-details/029/HO00012740/easter-parade
STATUS:CONFIRMED
END:VEVENT
END:VCALENDAR