BEGIN:VCALENDAR
VERSION:2.0
PRODID:-//Pictures London//Cinema Listings//EN
CALSCALE:GREGORIAN
METHOD:PUBLISH
X-WR-CALNAME:Pictures London Cinema
BEGIN:VEVENT
UID:1ca6d8f1-74ff-4c7e-8fcf-790ff3157329@pictures.london
DTSTART:20260422T152000Z
DTEND:20260422T172700Z
SUMMARY:Michael (2026) at Genesis Cinema
DESCRIPTION:Michael (2026)\nat Genesis Cinema\nBook: https://genesis.admit-one.co.uk/seats/?perfCode=10515\nvia Pictures (pictures.london)
LOCATION:Genesis Cinema\, 93-95 Mile End Road\, Mile End\, E1 4UJ
URL:https://genesis.admit-one.co.uk/seats/?perfCode=10515
STATUS:CONFIRMED
END:VEVENT
END:VCALENDAR