BEGIN:VCALENDAR
VERSION:2.0
PRODID:-//Pictures London//Cinema Listings//EN
CALSCALE:GREGORIAN
METHOD:PUBLISH
X-WR-CALNAME:Pictures London Cinema
BEGIN:VEVENT
UID:1c875881-c6d4-4a17-b509-e8a4dd13029e@pictures.london
DTSTART:20260501T163000Z
DTEND:20260501T182900Z
SUMMARY:The Devil Wears Prada 2 (2026) at Everyman Borough Yards
DESCRIPTION:The Devil Wears Prada 2 (2026)\nat Everyman Borough Yards\nBook: https://purchase.everymancinema.com/launch/ticketing/c0bb2709-71b4-5ceb-ba3c-04a5214859e9\nvia Pictures (pictures.london)
LOCATION:Everyman Borough Yards\, Borough Yards\, Borough\, SE1 9PH
URL:https://purchase.everymancinema.com/launch/ticketing/c0bb2709-71b4-5ceb-ba3c-04a5214859e9
STATUS:CONFIRMED
END:VEVENT
END:VCALENDAR