BEGIN:VCALENDAR
VERSION:2.0
PRODID:-//Pictures London//Cinema Listings//EN
CALSCALE:GREGORIAN
METHOD:PUBLISH
X-WR-CALNAME:Pictures London Cinema
BEGIN:VEVENT
UID:1c238299-9a2c-40b7-b2d5-45b0868aa057@pictures.london
DTSTART:20260421T170000Z
DTEND:20260421T190400Z
SUMMARY:Akira (1988) at Barbican Cinema
DESCRIPTION:Akira (1988)\nat Barbican Cinema\nBook: https://tickets.barbican.org.uk/choose-seats/3469204\nvia Pictures (pictures.london)
LOCATION:Barbican Cinema\, Silk Street\, Barbican\, EC2Y 8DS
URL:https://tickets.barbican.org.uk/choose-seats/3469204
STATUS:CONFIRMED
END:VEVENT
END:VCALENDAR