BEGIN:VCALENDAR
VERSION:2.0
PRODID:-//Pictures London//Cinema Listings//EN
CALSCALE:GREGORIAN
METHOD:PUBLISH
X-WR-CALNAME:Pictures London Cinema
BEGIN:VEVENT
UID:1c03d7d4-4a14-4b14-b9d9-5b27e0f530b0@pictures.london
DTSTART:20260422T173000Z
DTEND:20260422T185800Z
SUMMARY:Cecil B. Demented (2000) at The Nickel
DESCRIPTION:Cecil B. Demented (2000)\nat The Nickel\nFormat: DIGITAL\nBook: https://book.thenickel.co.uk/screening/278\nvia Pictures (pictures.london)
LOCATION:The Nickel\, 194 Upper Street\, Islington\, N1 1RQ
URL:https://book.thenickel.co.uk/screening/278
STATUS:CONFIRMED
END:VEVENT
END:VCALENDAR