BEGIN:VCALENDAR
VERSION:2.0
PRODID:-//Pictures London//Cinema Listings//EN
CALSCALE:GREGORIAN
METHOD:PUBLISH
X-WR-CALNAME:Pictures London Cinema
BEGIN:VEVENT
UID:1ac8d913-0927-489b-99f9-b45e02668431@pictures.london
DTSTART:20260422T113000Z
DTEND:20260422T133700Z
SUMMARY:Michael (2026) at Everyman Hampstead
DESCRIPTION:Michael (2026)\nat Everyman Hampstead\nBook: https://purchase.everymancinema.com/launch/ticketing/90fd8aab-fe02-583a-a6ee-19ab34055377\nvia Pictures (pictures.london)
LOCATION:Everyman Hampstead\, 5 Holly Bush Vale\, Hampstead\, NW3 1QE
URL:https://purchase.everymancinema.com/launch/ticketing/90fd8aab-fe02-583a-a6ee-19ab34055377
STATUS:CONFIRMED
END:VEVENT
END:VCALENDAR