BEGIN:VCALENDAR
VERSION:2.0
PRODID:-//Pictures London//Cinema Listings//EN
CALSCALE:GREGORIAN
METHOD:PUBLISH
X-WR-CALNAME:Pictures London Cinema
BEGIN:VEVENT
UID:1a6fccc4-06c6-4df8-827b-91fb4358dbe1@pictures.london
DTSTART:20260421T170000Z
DTEND:20260421T193700Z
SUMMARY:Project Hail Mary (2026) at Everyman Broadgate
DESCRIPTION:Project Hail Mary (2026)\nat Everyman Broadgate\nBook: https://purchase.everymancinema.com/launch/ticketing/4bd1b866-1a23-5769-830a-5ab5d1455b6e\nvia Pictures (pictures.london)
LOCATION:Everyman Broadgate\, Broadgate Circle\, Liverpool Street\, EC2M 2QS
URL:https://purchase.everymancinema.com/launch/ticketing/4bd1b866-1a23-5769-830a-5ab5d1455b6e
STATUS:CONFIRMED
END:VEVENT
END:VCALENDAR