BEGIN:VCALENDAR
VERSION:2.0
PRODID:-//Pictures London//Cinema Listings//EN
CALSCALE:GREGORIAN
METHOD:PUBLISH
X-WR-CALNAME:Pictures London Cinema
BEGIN:VEVENT
UID:1a28d1a8-a656-4532-92ad-9a6d960a7b14@pictures.london
DTSTART:20260421T210000Z
DTEND:20260421T223900Z
SUMMARY:Glenrothan (2026) at Peckhamplex
DESCRIPTION:Glenrothan (2026)\nat Peckhamplex\nBook: https://ticketing.eu.veezi.com/purchase/79580?siteToken=zkD3Bh7H%2fkuZI9VTgCj%2bgg%3d%3d\nvia Pictures (pictures.london)
LOCATION:Peckhamplex\, 95A Rye Lane\, Peckham\, SE15 4ST
URL:https://ticketing.eu.veezi.com/purchase/79580?siteToken=zkD3Bh7H%2fkuZI9VTgCj%2bgg%3d%3d
STATUS:CONFIRMED
END:VEVENT
END:VCALENDAR