BEGIN:VCALENDAR
VERSION:2.0
PRODID:-//Pictures London//Cinema Listings//EN
CALSCALE:GREGORIAN
METHOD:PUBLISH
X-WR-CALNAME:Pictures London Cinema
BEGIN:VEVENT
UID:19e52b54-52fc-449a-b5d7-22a224a22ab4@pictures.london
DTSTART:20260422T150000Z
DTEND:20260422T170700Z
SUMMARY:Michael (2026) at Everyman Broadgate
DESCRIPTION:Michael (2026)\nat Everyman Broadgate\nBook: https://purchase.everymancinema.com/launch/ticketing/c65b32b2-3957-5025-ac1d-f1abf7865e7a\nvia Pictures (pictures.london)
LOCATION:Everyman Broadgate\, Broadgate Circle\, Liverpool Street\, EC2M 2QS
URL:https://purchase.everymancinema.com/launch/ticketing/c65b32b2-3957-5025-ac1d-f1abf7865e7a
STATUS:CONFIRMED
END:VEVENT
END:VCALENDAR