BEGIN:VCALENDAR
VERSION:2.0
PRODID:-//Pictures London//Cinema Listings//EN
CALSCALE:GREGORIAN
METHOD:PUBLISH
X-WR-CALNAME:Pictures London Cinema
BEGIN:VEVENT
UID:19980fea-caa1-4f78-b2c0-8ba3c4c572b5@pictures.london
DTSTART:20260421T143000Z
DTEND:20260421T163000Z
SUMMARY:AKIRA (2026 Re-release) (Subbed) (2026) at Everyman Muswell Hill
DESCRIPTION:AKIRA (2026 Re-release) (Subbed) (2026)\nat Everyman Muswell Hill\nFormat: DCP_4K\nBook: https://purchase.everymancinema.com/launch/ticketing/3f901701-5ddd-5891-9ac5-8b6e85c32b77\nvia Pictures (pictures.london)
LOCATION:Everyman Muswell Hill\, Fortis Green Road\, Muswell Hill\, N10 3TD
URL:https://purchase.everymancinema.com/launch/ticketing/3f901701-5ddd-5891-9ac5-8b6e85c32b77
STATUS:CONFIRMED
END:VEVENT
END:VCALENDAR