BEGIN:VCALENDAR
VERSION:2.0
PRODID:-//Pictures London//Cinema Listings//EN
CALSCALE:GREGORIAN
METHOD:PUBLISH
X-WR-CALNAME:Pictures London Cinema
BEGIN:VEVENT
UID:193931ed-23b6-4947-85ec-c53833eefedc@pictures.london
DTSTART:20260422T191500Z
DTEND:20260422T213300Z
SUMMARY:Sinners (2025) at Prince Charles Cinema
DESCRIPTION:Sinners (2025)\nat Prince Charles Cinema\nBook: https://princecharlescinema.com/prince-charles-cinema/booknow/31625677\nvia Pictures (pictures.london)
LOCATION:Prince Charles Cinema\, 7 Leicester Place\, Leicester Square\, WC2H 7BY
URL:https://princecharlescinema.com/prince-charles-cinema/booknow/31625677
STATUS:CONFIRMED
END:VEVENT
END:VCALENDAR