BEGIN:VCALENDAR
VERSION:2.0
PRODID:-//Pictures London//Cinema Listings//EN
CALSCALE:GREGORIAN
METHOD:PUBLISH
X-WR-CALNAME:Pictures London Cinema
BEGIN:VEVENT
UID:1915b433-5ddf-431d-a12f-d2c28b7be4d1@pictures.london
DTSTART:20260421T190000Z
DTEND:20260421T211200Z
SUMMARY:The North (2025) at Phoenix Cinema
DESCRIPTION:The North (2025)\nat Phoenix Cinema\nEvent: q and a\nBook: https://www.phoenixcinema.co.uk/PhoenixCinemaLondon.dll/WhatsOn?f=421639\nvia Pictures (pictures.london)
LOCATION:Phoenix Cinema\, 52 High Road\, East Finchley\, N2 9PJ
URL:https://www.phoenixcinema.co.uk/PhoenixCinemaLondon.dll/WhatsOn?f=421639
STATUS:CONFIRMED
END:VEVENT
END:VCALENDAR