BEGIN:VCALENDAR
VERSION:2.0
PRODID:-//Pictures London//Cinema Listings//EN
CALSCALE:GREGORIAN
METHOD:PUBLISH
X-WR-CALNAME:Pictures London Cinema
BEGIN:VEVENT
UID:18dc13a0-6509-4c4e-82db-d0b35952d94e@pictures.london
DTSTART:20260424T174000Z
DTEND:20260424T193200Z
SUMMARY:Mother Mary (2026) at Curzon Hoxton
DESCRIPTION:Mother Mary (2026)\nat Curzon Hoxton\nBook: https://www.curzon.com/films/mother-mary/HO00006899/\nvia Pictures (pictures.london)
LOCATION:Curzon Hoxton\, 58 Pitfield Street\, Hoxton\, N1 6NU
URL:https://www.curzon.com/films/mother-mary/HO00006899/
STATUS:CONFIRMED
END:VEVENT
END:VCALENDAR