BEGIN:VCALENDAR
VERSION:2.0
PRODID:-//Pictures London//Cinema Listings//EN
CALSCALE:GREGORIAN
METHOD:PUBLISH
X-WR-CALNAME:Pictures London Cinema
BEGIN:VEVENT
UID:1849f62b-8c7b-4903-bb53-5552c5cd8987@pictures.london
DTSTART:20260421T205000Z
DTEND:20260421T224000Z
SUMMARY:Father Mother Sister Brother (2025) at Castle Cinema
DESCRIPTION:Father Mother Sister Brother (2025)\nat Castle Cinema\nBook: https://thecastlecinema.com/bookings/16419/\nvia Pictures (pictures.london)
LOCATION:Castle Cinema\, 64-66 Brooksby's Walk\, Hackney\, E9 6DA
URL:https://thecastlecinema.com/bookings/16419/
STATUS:CONFIRMED
END:VEVENT
END:VCALENDAR